BEGIN:VCALENDAR
PRODID:-//spatineo.com//Spatineo Monitor//EN
VERSION:2.0
X-WR-CALNAME:INSPIRE_Syke_LajienLevinneisyys1 - Spatineo service maintenanc
 e notifications
X-WR-CALDESC:INSPIRE_Syke_LajienLevinneisyys1 - Spatineo service maintenanc
 e notifications
CALSCALE:GREGORIAN
METHOD:PUBLISH
BEGIN:VEVENT
DTSTART:20260418T100000Z
DTEND:20260418T150000Z
SUMMARY:Käyttökatko Syken INSPIRE WMS-rajapintapalveluissa 18.4.2026
DESCRIPTION:Käyttökatko Syken INSPIRE WMS-rajapintapalveluissa 18.4.2026 
 klo 13 alkaen.\nKäyttökatkon arvioitu pituus n. 5 h.
CLASS:PUBLIC
STATUS:CONFIRMED
DTSTAMP:20260414T122000Z
END:VEVENT
BEGIN:VEVENT
DTSTART:20260406T100000Z
DTEND:20260406T130000Z
SUMMARY:Käyttökatko Syken INSPIRE WMS-rajapintapalveluissa 6.4.2026
DESCRIPTION:Käyttökatko Syken INSPIRE WMS-rajapintapalveluissa 6.4.2026 k
 lo 13 alkaen.\nKäyttökatkon arvioitu pituus n. 3 h.
CLASS:PUBLIC
STATUS:CONFIRMED
DTSTAMP:20260401T090000Z
END:VEVENT
BEGIN:VEVENT
DTSTART:20260323T050000Z
DTEND:20260324T060000Z
SUMMARY:Käyttökatko Syken INSPIRE WMS-rajapintapalveluissa
DESCRIPTION:Käyttökatko Syken INSPIRE WMS-rajapintapalveluissa 23.3.2026 
 klo 7 alkaen.\nKäyttökatkon arvioitu pituus n. 25 h.
CLASS:PUBLIC
STATUS:CONFIRMED
DTSTAMP:20260323T065000Z
END:VEVENT
BEGIN:VEVENT
DTSTART:20260228T110000Z
DTEND:20260228T200000Z
SUMMARY:Käyttökatko Syken INSPIRE WMS-rajapintapalveluissa 28.2.2026
DESCRIPTION:Käyttökatko Syken INSPIRE WMS-rajapintapalveluissa 28.2.2026 
 klo 13 alkaen.\nKäyttökatkon arvioitu pituus n. 9 h.
CLASS:PUBLIC
STATUS:CONFIRMED
DTSTAMP:20260225T100000Z
END:VEVENT
BEGIN:VEVENT
DTSTART:20260303T150000Z
DTEND:20260303T200000Z
SUMMARY:Käyttökatko Syken INSPIRE WMS-rajapintapalveluissa 3.3.2026
DESCRIPTION:Käyttökatko Syken INSPIRE WMS-rajapintapalveluissa 3.3.2026 k
 lo 17 alkaen.\nKäyttökatkon arvioitu pituus n. 5 h.
CLASS:PUBLIC
STATUS:CONFIRMED
DTSTAMP:20260225T100000Z
END:VEVENT
BEGIN:VEVENT
DTSTART:20251209T150000Z
DTEND:20251209T180000Z
SUMMARY:Käyttökatko Syken INSPIRE WMS-rajapintapalveluissa 9.12.2025
DESCRIPTION:Käyttökatko Syken INSPIRE WMS-rajapintapalveluissa 9.12.2025 
 klo 17 alkaen.\nKäyttökatkon arvioitu pituus n. 3 h.
CLASS:PUBLIC
STATUS:CONFIRMED
DTSTAMP:20251202T100000Z
END:VEVENT
BEGIN:VEVENT
DTSTART:20251028T140000Z
DTEND:20251028T180000Z
SUMMARY:Käyttökatko Syken INSPIRE WMS-rajapintapalveluissa 28.10.2025
DESCRIPTION:Käyttökatko Syken INSPIRE WMS-rajapintapalveluissa 28.10.2025
  klo 16 alkaen.\nKäyttökatkon arvioitu pituus n. 4 h.
CLASS:PUBLIC
STATUS:CONFIRMED
DTSTAMP:20251024T042000Z
END:VEVENT
BEGIN:VEVENT
DTSTART:20250906T120000Z
DTEND:20250906T170000Z
SUMMARY:Käyttökatko Syken INSPIRE WMS-rajapintapalveluissa 6.9.2025
DESCRIPTION:Käyttökatko Syken INSPIRE WMS-rajapintapalveluissa 6.9.2025 k
 lo 15 alkaen.\nKäyttökatkon arvioitu pituus n. 5 h.
CLASS:PUBLIC
STATUS:CONFIRMED
DTSTAMP:20250905T061500Z
END:VEVENT
BEGIN:VEVENT
DTSTART:20250816T120000Z
DTEND:20250816T170000Z
SUMMARY:Käyttökatko Syken INSPIRE WMS-rajapintapalveluissa 16.8.2025
DESCRIPTION:Käyttökatko Syken INSPIRE WMS-rajapintapalveluissa 16.8.2025 
 klo 15 alkaen.\nKäyttökatkon arvioitu pituus n. 5 h.
CLASS:PUBLIC
STATUS:CONFIRMED
DTSTAMP:20250815T090500Z
END:VEVENT
BEGIN:VEVENT
DTSTART:20250607T100000Z
DTEND:20250607T130000Z
SUMMARY:Käyttökatko Syken INSPIRE WMS-rajapintapalveluissa 7.6.2025
DESCRIPTION:Käyttökatko Syken INSPIRE WMS-rajapintapalveluissa 7.6.2025 k
 lo 13 alkaen.\nKäyttökatkon arvioitu pituus n. 3 h.
CLASS:PUBLIC
STATUS:CONFIRMED
DTSTAMP:20250605T060000Z
END:VEVENT
END:VCALENDAR
