BEGIN:VCALENDAR
PRODID:-//spatineo.com//Spatineo Monitor//EN
VERSION:2.0
X-WR-CALNAME:Vihti WMS Server - Spatineo service maintenance notifications
X-WR-CALDESC:Vihti WMS Server - Spatineo service maintenance notifications
CALSCALE:GREGORIAN
METHOD:PUBLISH
BEGIN:VEVENT
DTSTART:20251113T120000Z
DTEND:20251113T140000Z
SUMMARY:Vihdin kunnan kartta- ja rajapintapalveluissa huoltokatko to 13.11.
 2025 klo 14-16.
DESCRIPTION:Vihdin kunnan kartta- ja rajapintapalveluissa huoltokatko to 13
 .11.2025 klo\n14-16.
CLASS:PUBLIC
STATUS:CONFIRMED
DTSTAMP:20251104T130000Z
END:VEVENT
BEGIN:VEVENT
DTSTART:20250610T050000Z
DTEND:20250610T080000Z
SUMMARY:Vihdin kunnan kartta- ja rajapintapalveluissa huoltokatko ti 10.6.2
 025 klo 8-11.
DESCRIPTION:Vihdin kunnan kartta- ja rajapintapalveluissa huoltokatko ti 10
 .6.2025 klo 8-11.
CLASS:PUBLIC
STATUS:CONFIRMED
DTSTAMP:20250530T090000Z
END:VEVENT
BEGIN:VEVENT
DTSTART:20250128T100000Z
DTEND:20250128T110000Z
SUMMARY:Vihdin kunnan kartta- ja rajapintapalveluissa huoltokatko to 28.1.2
 025 klo 12-13.
DESCRIPTION:Vihdin kunnan kartta- ja rajapintapalveluissa huoltokatko to 28
 .1.2025 klo\n12-13.
CLASS:PUBLIC
STATUS:CONFIRMED
DTSTAMP:20250116T090000Z
END:VEVENT
BEGIN:VEVENT
DTSTART:20240826T050000Z
DTEND:20240826T090000Z
SUMMARY:Vihdin kunnan kartta- ja rajapintapalveluissa huoltokatko ma 26.8.2
 024 klo 8-12.
DESCRIPTION:Vihdin kunnan kartta- ja rajapintapalveluissa huoltokatko ma 26
 .8.2024 klo 8-12.
CLASS:PUBLIC
STATUS:CONFIRMED
DTSTAMP:20240722T090000Z
END:VEVENT
BEGIN:VEVENT
DTSTART:20231208T173000Z
DTEND:20231211T100000Z
SUMMARY:Vihdin kunnan kartta- ja rajapintapalveluissa katko 8.-11.12.2023
DESCRIPTION:Vihdin kunnan kartta- ja rajapintapalveluissa katko 8.12.2023 k
 lo 16.00 -\n11.12.2023 klo 12.00.
CLASS:PUBLIC
STATUS:CONFIRMED
DTSTAMP:20231208T173000Z
END:VEVENT
END:VCALENDAR
