BEGIN:VCALENDAR
PRODID:-//spatineo.com//Spatineo Monitor//EN
VERSION:2.0
X-WR-CALNAME:City of Kuopio WMS Service - Spatineo service maintenance noti
 fications
X-WR-CALDESC:City of Kuopio WMS Service - Spatineo service maintenance noti
 fications
CALSCALE:GREGORIAN
METHOD:PUBLISH
BEGIN:VEVENT
DTSTART:20240115T070000Z
DTEND:20240115T110000Z
SUMMARY:WMS- and WFS-service update
DESCRIPTION:WMS- and WFS-service maintenance
CLASS:PUBLIC
STATUS:CONFIRMED
DTSTAMP:20240115T060000Z
END:VEVENT
END:VCALENDAR
